BEGIN:VCALENDAR
VERSION:2.0
PRODID:-//Anderson University - ECPv6.15.17.1//NONSGML v1.0//EN
CALSCALE:GREGORIAN
METHOD:PUBLISH
X-ORIGINAL-URL:https://andersonuniversity.edu
X-WR-CALDESC:Events for Anderson University
REFRESH-INTERVAL;VALUE=DURATION:PT1H
X-Robots-Tag:noindex
X-PUBLISHED-TTL:PT1H
BEGIN:VTIMEZONE
TZID:America/New_York
BEGIN:DAYLIGHT
TZOFFSETFROM:-0500
TZOFFSETTO:-0400
TZNAME:EDT
DTSTART:20250309T070000
END:DAYLIGHT
BEGIN:STANDARD
TZOFFSETFROM:-0400
TZOFFSETTO:-0500
TZNAME:EST
DTSTART:20251102T060000
END:STANDARD
BEGIN:DAYLIGHT
TZOFFSETFROM:-0500
TZOFFSETTO:-0400
TZNAME:EDT
DTSTART:20260308T070000
END:DAYLIGHT
BEGIN:STANDARD
TZOFFSETFROM:-0400
TZOFFSETTO:-0500
TZNAME:EST
DTSTART:20261101T060000
END:STANDARD
BEGIN:DAYLIGHT
TZOFFSETFROM:-0500
TZOFFSETTO:-0400
TZNAME:EDT
DTSTART:20270314T070000
END:DAYLIGHT
BEGIN:STANDARD
TZOFFSETFROM:-0400
TZOFFSETTO:-0500
TZNAME:EST
DTSTART:20271107T060000
END:STANDARD
END:VTIMEZONE
BEGIN:VEVENT
DTSTART;VALUE=DATE:20260706
DTEND;VALUE=DATE:20260726
DTSTAMP:20260423T003039
CREATED:20251211T204631Z
LAST-MODIFIED:20251211T204705Z
UID:45958-1783296000-1785023999@andersonuniversity.edu
SUMMARY:Repertory Theatre Summer Camp
DESCRIPTION:July 6-25\, 2026 – Rising 7th-12th Graders – Day Camp \n\n\n\n\nAnderson University’s Repertory Theatre gives young actors the opportunity to develop skills in acting\, singing\, and dancing under the guidance of Anderson University’s performance faculty and upperclassmen acting and musical theatre students. For young technicians and designers\, our design faculty and staff will teach skills in set building\, costume design\, and lighting. Together\, over the space of three weeks\, all participants create a full-length musical open to the community. This year’s show will be the full-length musical version of The Addams Family. \nRegistration Deadline: June 15\, 2026
URL:https://andersonuniversity.edu/auevent/repertory-theatre-summer-camp/
LOCATION:GA
END:VEVENT
END:VCALENDAR