BEGIN:VCALENDAR
VERSION:2.0
PRODID:-//Anderson University - ECPv6.15.17.1//NONSGML v1.0//EN
CALSCALE:GREGORIAN
METHOD:PUBLISH
X-WR-CALNAME:Anderson University
X-ORIGINAL-URL:https://andersonuniversity.edu
X-WR-CALDESC:Events for Anderson University
REFRESH-INTERVAL;VALUE=DURATION:PT1H
X-Robots-Tag:noindex
X-PUBLISHED-TTL:PT1H
BEGIN:VTIMEZONE
TZID:America/New_York
BEGIN:DAYLIGHT
TZOFFSETFROM:-0500
TZOFFSETTO:-0400
TZNAME:EDT
DTSTART:20250309T070000
END:DAYLIGHT
BEGIN:STANDARD
TZOFFSETFROM:-0400
TZOFFSETTO:-0500
TZNAME:EST
DTSTART:20251102T060000
END:STANDARD
BEGIN:DAYLIGHT
TZOFFSETFROM:-0500
TZOFFSETTO:-0400
TZNAME:EDT
DTSTART:20260308T070000
END:DAYLIGHT
BEGIN:STANDARD
TZOFFSETFROM:-0400
TZOFFSETTO:-0500
TZNAME:EST
DTSTART:20261101T060000
END:STANDARD
BEGIN:DAYLIGHT
TZOFFSETFROM:-0500
TZOFFSETTO:-0400
TZNAME:EDT
DTSTART:20270314T070000
END:DAYLIGHT
BEGIN:STANDARD
TZOFFSETFROM:-0400
TZOFFSETTO:-0500
TZNAME:EST
DTSTART:20271107T060000
END:STANDARD
END:VTIMEZONE
BEGIN:VEVENT
DTSTART;TZID=America/New_York:20260424T130000
DTEND;TZID=America/New_York:20260424T170000
DTSTAMP:20260424T040540
CREATED:20251104T142615Z
LAST-MODIFIED:20260219T195545Z
UID:45793-1777035600-1777050000@andersonuniversity.edu
SUMMARY:Future Trojan Day 2026
DESCRIPTION:  \n \nAnderson University invites you and your family to join us for Future Trojan Day! A day dedicated solely to the future Trojans of Anderson\, this event will give you the exclusive opportunity to step onto campus alongside members of your incoming class and explore what life will hold for you at Anderson. \nWhat’s included in Future Trojan Day? \n\nTips from a Trojan: Current students will share their insights and tips on what they wish they knew before joining the Trojan Family.\nResidence Hall Open House: Explore our residence hall spaces as you picture your future home.\nOutdoor Cookout & Lawn Games: Mingle with members of the Trojan Family and your fellow classmates. Food will be served after the opening activities and student panel\, so please plan accordingly.\nQ&A: Our staff and Admission Counselors will be available throughout the afternoon to answer any of your questions as you prepare for the fall semester.\n\nEvent details: \n\nDate: Friday\, April 24\, 2026\nTime: 1 pm\nLocation: Anderson University\n\nRegister
URL:https://andersonuniversity.edu/auevent/future-trojan-day-2026/
LOCATION:Anderson University\, 316 Boulevard\, Anderson\, SC\, 29621\, United States
END:VEVENT
BEGIN:VEVENT
DTSTART;TZID=America/New_York:20260424T170000
DTEND;TZID=America/New_York:20260424T190000
DTSTAMP:20260424T040540
CREATED:20251024T154245Z
LAST-MODIFIED:20260409T180439Z
UID:45748-1777050000-1777057200@andersonuniversity.edu
SUMMARY:Anderson Soiree: Audio 316 Records Showcase
DESCRIPTION:Anderson Soiree: Audio 316 Records Showcase
URL:https://andersonuniversity.edu/auevent/anderson-soiree-audio-316-records-showcase/
LOCATION:Downtown Anderson
END:VEVENT
END:VCALENDAR