BEGIN:VCALENDAR
VERSION:2.0
PRODID:-//Anderson University - ECPv6.15.17.1//NONSGML v1.0//EN
CALSCALE:GREGORIAN
METHOD:PUBLISH
X-WR-CALNAME:Anderson University
X-ORIGINAL-URL:https://andersonuniversity.edu
X-WR-CALDESC:Events for Anderson University
REFRESH-INTERVAL;VALUE=DURATION:PT1H
X-Robots-Tag:noindex
X-PUBLISHED-TTL:PT1H
BEGIN:VTIMEZONE
TZID:America/New_York
BEGIN:DAYLIGHT
TZOFFSETFROM:-0500
TZOFFSETTO:-0400
TZNAME:EDT
DTSTART:20250309T070000
END:DAYLIGHT
BEGIN:STANDARD
TZOFFSETFROM:-0400
TZOFFSETTO:-0500
TZNAME:EST
DTSTART:20251102T060000
END:STANDARD
BEGIN:DAYLIGHT
TZOFFSETFROM:-0500
TZOFFSETTO:-0400
TZNAME:EDT
DTSTART:20260308T070000
END:DAYLIGHT
BEGIN:STANDARD
TZOFFSETFROM:-0400
TZOFFSETTO:-0500
TZNAME:EST
DTSTART:20261101T060000
END:STANDARD
BEGIN:DAYLIGHT
TZOFFSETFROM:-0500
TZOFFSETTO:-0400
TZNAME:EDT
DTSTART:20270314T070000
END:DAYLIGHT
BEGIN:STANDARD
TZOFFSETFROM:-0400
TZOFFSETTO:-0500
TZNAME:EST
DTSTART:20271107T060000
END:STANDARD
END:VTIMEZONE
BEGIN:VEVENT
DTSTART;TZID=America/New_York:20260422T113000
DTEND;TZID=America/New_York:20260422T130000
DTSTAMP:20260422T205807
CREATED:20260331T151835Z
LAST-MODIFIED:20260409T175530Z
UID:46527-1776857400-1776862800@andersonuniversity.edu
SUMMARY:Emergency Responders Appreciation Banquet
DESCRIPTION:Anderson University Emergency Responders Appreciation Banquet. Join us for the Seventeenth Annual Emergency Responder Appreciation Banquet honoring the brave first responders who serve Anderson\, Oconee\, and Pickens Counties.
URL:https://andersonuniversity.edu/auevent/emergency-responders-appreciation-banquet/
LOCATION:G. Ross Anderson\, Jr. Student Center Banquet Hall\, 316 Boulevard St\, Anderson\, SC\, 29621\, United States
END:VEVENT
END:VCALENDAR