BEGIN:VCALENDAR
VERSION:2.0
PRODID:-//Anderson University - ECPv6.15.17.1//NONSGML v1.0//EN
CALSCALE:GREGORIAN
METHOD:PUBLISH
X-WR-CALNAME:Anderson University
X-ORIGINAL-URL:https://andersonuniversity.edu
X-WR-CALDESC:Events for Anderson University
REFRESH-INTERVAL;VALUE=DURATION:PT1H
X-Robots-Tag:noindex
X-PUBLISHED-TTL:PT1H
BEGIN:VTIMEZONE
TZID:America/New_York
BEGIN:DAYLIGHT
TZOFFSETFROM:-0500
TZOFFSETTO:-0400
TZNAME:EDT
DTSTART:20250309T070000
END:DAYLIGHT
BEGIN:STANDARD
TZOFFSETFROM:-0400
TZOFFSETTO:-0500
TZNAME:EST
DTSTART:20251102T060000
END:STANDARD
BEGIN:DAYLIGHT
TZOFFSETFROM:-0500
TZOFFSETTO:-0400
TZNAME:EDT
DTSTART:20260308T070000
END:DAYLIGHT
BEGIN:STANDARD
TZOFFSETFROM:-0400
TZOFFSETTO:-0500
TZNAME:EST
DTSTART:20261101T060000
END:STANDARD
BEGIN:DAYLIGHT
TZOFFSETFROM:-0500
TZOFFSETTO:-0400
TZNAME:EDT
DTSTART:20270314T070000
END:DAYLIGHT
BEGIN:STANDARD
TZOFFSETFROM:-0400
TZOFFSETTO:-0500
TZNAME:EST
DTSTART:20271107T060000
END:STANDARD
END:VTIMEZONE
BEGIN:VEVENT
DTSTART;TZID=America/New_York:20260228T140000
DTEND;TZID=America/New_York:20260228T153000
DTSTAMP:20260424T085726
CREATED:20260120T185409Z
LAST-MODIFIED:20260120T185409Z
UID:46172-1772287200-1772292600@andersonuniversity.edu
SUMMARY:The Lightning Thief
DESCRIPTION:tickets
URL:https://andersonuniversity.edu/auevent/the-lightning-thief-5/
LOCATION:Belk Theatre
END:VEVENT
BEGIN:VEVENT
DTSTART;TZID=America/New_York:20260228T193000
DTEND;TZID=America/New_York:20260228T210000
DTSTAMP:20260424T085726
CREATED:20260120T185238Z
LAST-MODIFIED:20260120T185238Z
UID:46171-1772307000-1772312400@andersonuniversity.edu
SUMMARY:The Lightning Thief
DESCRIPTION:tickets
URL:https://andersonuniversity.edu/auevent/the-lightning-thief-4/
LOCATION:Belk Theatre
END:VEVENT
END:VCALENDAR