BEGIN:VCALENDAR
VERSION:2.0
PRODID:-//Anderson University - ECPv6.15.17.1//NONSGML v1.0//EN
CALSCALE:GREGORIAN
METHOD:PUBLISH
X-ORIGINAL-URL:https://andersonuniversity.edu
X-WR-CALDESC:Events for Anderson University
REFRESH-INTERVAL;VALUE=DURATION:PT1H
X-Robots-Tag:noindex
X-PUBLISHED-TTL:PT1H
BEGIN:VTIMEZONE
TZID:America/New_York
BEGIN:DAYLIGHT
TZOFFSETFROM:-0500
TZOFFSETTO:-0400
TZNAME:EDT
DTSTART:20230312T070000
END:DAYLIGHT
BEGIN:STANDARD
TZOFFSETFROM:-0400
TZOFFSETTO:-0500
TZNAME:EST
DTSTART:20231105T060000
END:STANDARD
BEGIN:DAYLIGHT
TZOFFSETFROM:-0500
TZOFFSETTO:-0400
TZNAME:EDT
DTSTART:20240310T070000
END:DAYLIGHT
BEGIN:STANDARD
TZOFFSETFROM:-0400
TZOFFSETTO:-0500
TZNAME:EST
DTSTART:20241103T060000
END:STANDARD
BEGIN:DAYLIGHT
TZOFFSETFROM:-0500
TZOFFSETTO:-0400
TZNAME:EDT
DTSTART:20250309T070000
END:DAYLIGHT
BEGIN:STANDARD
TZOFFSETFROM:-0400
TZOFFSETTO:-0500
TZNAME:EST
DTSTART:20251102T060000
END:STANDARD
END:VTIMEZONE
BEGIN:VEVENT
DTSTART;TZID=America/New_York:20241213T100000
DTEND;TZID=America/New_York:20241213T233000
DTSTAMP:20260424T211433
CREATED:20241204T213004Z
LAST-MODIFIED:20241205T145240Z
UID:41918-1734084000-1734132600@andersonuniversity.edu
SUMMARY:Winter Commencement 2024\, 1st Ceremony
DESCRIPTION:10:00 am Ceremony Details
URL:https://andersonuniversity.edu/auevent/winter-commencement/
LOCATION:Henderson Auditorium
END:VEVENT
BEGIN:VEVENT
DTSTART;TZID=America/New_York:20241213T160000
DTEND;TZID=America/New_York:20241213T173000
DTSTAMP:20260424T211433
CREATED:20241204T213251Z
LAST-MODIFIED:20241205T145247Z
UID:41919-1734105600-1734111000@andersonuniversity.edu
SUMMARY:Winter Commencement 2024\, 2nd Ceremony
DESCRIPTION:2nd Ceremony Details
URL:https://andersonuniversity.edu/auevent/winter-commencement-2024-2nd-ceremony/
LOCATION:Henderson Auditorium
END:VEVENT
END:VCALENDAR