BEGIN:VCALENDAR
VERSION:2.0
PRODID:-//Anderson University - ECPv6.15.17.1//NONSGML v1.0//EN
CALSCALE:GREGORIAN
METHOD:PUBLISH
X-WR-CALNAME:Anderson University
X-ORIGINAL-URL:https://andersonuniversity.edu
X-WR-CALDESC:Events for Anderson University
REFRESH-INTERVAL;VALUE=DURATION:PT1H
X-Robots-Tag:noindex
X-PUBLISHED-TTL:PT1H
BEGIN:VTIMEZONE
TZID:America/New_York
BEGIN:DAYLIGHT
TZOFFSETFROM:-0500
TZOFFSETTO:-0400
TZNAME:EDT
DTSTART:20230312T070000
END:DAYLIGHT
BEGIN:STANDARD
TZOFFSETFROM:-0400
TZOFFSETTO:-0500
TZNAME:EST
DTSTART:20231105T060000
END:STANDARD
BEGIN:DAYLIGHT
TZOFFSETFROM:-0500
TZOFFSETTO:-0400
TZNAME:EDT
DTSTART:20240310T070000
END:DAYLIGHT
BEGIN:STANDARD
TZOFFSETFROM:-0400
TZOFFSETTO:-0500
TZNAME:EST
DTSTART:20241103T060000
END:STANDARD
BEGIN:DAYLIGHT
TZOFFSETFROM:-0500
TZOFFSETTO:-0400
TZNAME:EDT
DTSTART:20250309T070000
END:DAYLIGHT
BEGIN:STANDARD
TZOFFSETFROM:-0400
TZOFFSETTO:-0500
TZNAME:EST
DTSTART:20251102T060000
END:STANDARD
END:VTIMEZONE
BEGIN:VEVENT
DTSTART;TZID=America/New_York:20241122T183000
DTEND;TZID=America/New_York:20241122T203000
DTSTAMP:20260420T104059
CREATED:20240822T182123Z
LAST-MODIFIED:20240903T175914Z
UID:40600-1732300200-1732307400@andersonuniversity.edu
SUMMARY:Galsgiving
DESCRIPTION:AU Women’s Ministry
URL:https://andersonuniversity.edu/auevent/galsgiving/
LOCATION:GA
END:VEVENT
BEGIN:VEVENT
DTSTART;TZID=America/New_York:20241122T193000
DTEND;TZID=America/New_York:20241122T220000
DTSTAMP:20260420T104059
CREATED:20240924T185506Z
LAST-MODIFIED:20240924T185506Z
UID:41028-1732303800-1732312800@andersonuniversity.edu
SUMMARY:Fall Dance Concert
DESCRIPTION:$10 General Admission\, $5 Faculty/Staff/Students \nTickets
URL:https://andersonuniversity.edu/auevent/fall-dance-concert-2/
LOCATION:Henderson Auditorium
END:VEVENT
END:VCALENDAR