BEGIN:VCALENDAR
VERSION:2.0
PRODID:-//Anderson University - ECPv6.15.17.1//NONSGML v1.0//EN
CALSCALE:GREGORIAN
METHOD:PUBLISH
X-ORIGINAL-URL:https://andersonuniversity.edu
X-WR-CALDESC:Events for Anderson University
REFRESH-INTERVAL;VALUE=DURATION:PT1H
X-Robots-Tag:noindex
X-PUBLISHED-TTL:PT1H
BEGIN:VTIMEZONE
TZID:America/New_York
BEGIN:DAYLIGHT
TZOFFSETFROM:-0500
TZOFFSETTO:-0400
TZNAME:EDT
DTSTART:20230312T070000
END:DAYLIGHT
BEGIN:STANDARD
TZOFFSETFROM:-0400
TZOFFSETTO:-0500
TZNAME:EST
DTSTART:20231105T060000
END:STANDARD
BEGIN:DAYLIGHT
TZOFFSETFROM:-0500
TZOFFSETTO:-0400
TZNAME:EDT
DTSTART:20240310T070000
END:DAYLIGHT
BEGIN:STANDARD
TZOFFSETFROM:-0400
TZOFFSETTO:-0500
TZNAME:EST
DTSTART:20241103T060000
END:STANDARD
BEGIN:DAYLIGHT
TZOFFSETFROM:-0500
TZOFFSETTO:-0400
TZNAME:EDT
DTSTART:20250309T070000
END:DAYLIGHT
BEGIN:STANDARD
TZOFFSETFROM:-0400
TZOFFSETTO:-0500
TZNAME:EST
DTSTART:20251102T060000
END:STANDARD
END:VTIMEZONE
BEGIN:VEVENT
DTSTART;TZID=America/New_York:20240503T100000
DTEND;TZID=America/New_York:20240503T100000
DTSTAMP:20260419T231234
CREATED:20240123T161416Z
LAST-MODIFIED:20240528T150306Z
UID:36565-1714730400-1714730400@andersonuniversity.edu
SUMMARY:Commencement/Graduation Friday May 3\, 2024
DESCRIPTION:Schools graduating students in this ceremony: \n\nCollege of Arts and Sciences\nCollege of Business\nCenter for Cybersecurity\nSouth Carolina School of the Arts\n\nMore Information
URL:https://andersonuniversity.edu/auevent/commencment-graduation-friday-may-3-2024/
LOCATION:Alumni Lawn
ATTACH;FMTTYPE=image/jpeg:https://andersonuniversity.edu/wp-content/uploads/2024/01/Web-brand-Knowledge.jpg
END:VEVENT
BEGIN:VEVENT
DTSTART;TZID=America/New_York:20240503T150000
DTEND;TZID=America/New_York:20240503T150000
DTSTAMP:20260419T231234
CREATED:20240226T194335Z
LAST-MODIFIED:20240226T194343Z
UID:37208-1714748400-1714748400@andersonuniversity.edu
SUMMARY:Spring 2024 Baccalaureate Service
DESCRIPTION:The service will be on the Front Lawn\, weather permitting. Wes Church\, Pastor of First Baptist Church of Columbia\, SC will be the guest preacher.
URL:https://andersonuniversity.edu/auevent/spring-2024-baccalaureate-service/
LOCATION:Front Lawn
ATTACH;FMTTYPE=image/webp:https://andersonuniversity.edu/wp-content/uploads/2024/02/Baccalaureate-2023-CBPE-234-scaled.jpg
END:VEVENT
END:VCALENDAR