BEGIN:VCALENDAR
VERSION:2.0
PRODID:-//Anderson University - ECPv6.15.17.1//NONSGML v1.0//EN
CALSCALE:GREGORIAN
METHOD:PUBLISH
X-ORIGINAL-URL:https://andersonuniversity.edu
X-WR-CALDESC:Events for Anderson University
REFRESH-INTERVAL;VALUE=DURATION:PT1H
X-Robots-Tag:noindex
X-PUBLISHED-TTL:PT1H
BEGIN:VTIMEZONE
TZID:America/New_York
BEGIN:DAYLIGHT
TZOFFSETFROM:-0500
TZOFFSETTO:-0400
TZNAME:EDT
DTSTART:20230312T070000
END:DAYLIGHT
BEGIN:STANDARD
TZOFFSETFROM:-0400
TZOFFSETTO:-0500
TZNAME:EST
DTSTART:20231105T060000
END:STANDARD
BEGIN:DAYLIGHT
TZOFFSETFROM:-0500
TZOFFSETTO:-0400
TZNAME:EDT
DTSTART:20240310T070000
END:DAYLIGHT
BEGIN:STANDARD
TZOFFSETFROM:-0400
TZOFFSETTO:-0500
TZNAME:EST
DTSTART:20241103T060000
END:STANDARD
BEGIN:DAYLIGHT
TZOFFSETFROM:-0500
TZOFFSETTO:-0400
TZNAME:EDT
DTSTART:20250309T070000
END:DAYLIGHT
BEGIN:STANDARD
TZOFFSETFROM:-0400
TZOFFSETTO:-0500
TZNAME:EST
DTSTART:20251102T060000
END:STANDARD
END:VTIMEZONE
BEGIN:VEVENT
DTSTART;TZID=America/New_York:20240422T090000
DTEND;TZID=America/New_York:20240423T170000
DTSTAMP:20260425T155324
CREATED:20240418T173347Z
LAST-MODIFIED:20240501T142355Z
UID:38337-1713776400-1713891600@andersonuniversity.edu
SUMMARY:Spring Ceramics Sale
DESCRIPTION:The Department of Art+Design in the South Carolina School of the Arts will be hosting a two-day Spring Ceramics Sale. \nMonday\, April 22\, 9:00AM-5:00PM\nTuesday\, April 23\, 9:00AM-5:00PM \nVandiver Gallery\nThrift Library\n316 Boulevard\nAnderson\, SC
URL:https://andersonuniversity.edu/auevent/spring-ceramics-sale/
LOCATION:GA
ATTACH;FMTTYPE=image/webp:https://andersonuniversity.edu/wp-content/uploads/2024/05/ceramics_sale-optimized.jpg
END:VEVENT
END:VCALENDAR