BEGIN:VCALENDAR
VERSION:2.0
PRODID:-//Anderson University - ECPv6.15.17.1//NONSGML v1.0//EN
CALSCALE:GREGORIAN
METHOD:PUBLISH
X-ORIGINAL-URL:https://andersonuniversity.edu
X-WR-CALDESC:Events for Anderson University
REFRESH-INTERVAL;VALUE=DURATION:PT1H
X-Robots-Tag:noindex
X-PUBLISHED-TTL:PT1H
BEGIN:VTIMEZONE
TZID:America/New_York
BEGIN:DAYLIGHT
TZOFFSETFROM:-0500
TZOFFSETTO:-0400
TZNAME:EDT
DTSTART:20230312T070000
END:DAYLIGHT
BEGIN:STANDARD
TZOFFSETFROM:-0400
TZOFFSETTO:-0500
TZNAME:EST
DTSTART:20231105T060000
END:STANDARD
BEGIN:DAYLIGHT
TZOFFSETFROM:-0500
TZOFFSETTO:-0400
TZNAME:EDT
DTSTART:20240310T070000
END:DAYLIGHT
BEGIN:STANDARD
TZOFFSETFROM:-0400
TZOFFSETTO:-0500
TZNAME:EST
DTSTART:20241103T060000
END:STANDARD
BEGIN:DAYLIGHT
TZOFFSETFROM:-0500
TZOFFSETTO:-0400
TZNAME:EDT
DTSTART:20250309T070000
END:DAYLIGHT
BEGIN:STANDARD
TZOFFSETFROM:-0400
TZOFFSETTO:-0500
TZNAME:EST
DTSTART:20251102T060000
END:STANDARD
END:VTIMEZONE
BEGIN:VEVENT
DTSTART;TZID=America/New_York:20240408T113000
DTEND;TZID=America/New_York:20240408T143000
DTSTAMP:20260419T183212
CREATED:20240307T150234Z
LAST-MODIFIED:20241008T200517Z
UID:37408-1712575800-1712586600@andersonuniversity.edu
SUMMARY:2024 Law Enforcement Appreciation Banquet
DESCRIPTION:We will be hosting the annual awards ceremony to benefit criminal justice scholarships for Anderson University and Tri County Technical College students. \nOur keynote speakers will be South Carolina Attorney General Alan Wilson \nRegister Here
URL:https://andersonuniversity.edu/auevent/2024-law-enforcement-appreciation-banquet/
LOCATION:G. Ross Anderson\, Jr. Student Center Banquet Hall\, 316 Boulevard St\, Anderson\, SC\, 29621\, United States
ATTACH;FMTTYPE=image/jpeg:https://andersonuniversity.edu/wp-content/uploads/2024/01/Web-brand-Knowledge.jpg
END:VEVENT
END:VCALENDAR