BEGIN:VCALENDAR
VERSION:2.0
PRODID:-//Anderson University - ECPv6.15.17.1//NONSGML v1.0//EN
CALSCALE:GREGORIAN
METHOD:PUBLISH
X-ORIGINAL-URL:https://andersonuniversity.edu
X-WR-CALDESC:Events for Anderson University
REFRESH-INTERVAL;VALUE=DURATION:PT1H
X-Robots-Tag:noindex
X-PUBLISHED-TTL:PT1H
BEGIN:VTIMEZONE
TZID:America/New_York
BEGIN:DAYLIGHT
TZOFFSETFROM:-0500
TZOFFSETTO:-0400
TZNAME:EDT
DTSTART:20230312T070000
END:DAYLIGHT
BEGIN:STANDARD
TZOFFSETFROM:-0400
TZOFFSETTO:-0500
TZNAME:EST
DTSTART:20231105T060000
END:STANDARD
BEGIN:DAYLIGHT
TZOFFSETFROM:-0500
TZOFFSETTO:-0400
TZNAME:EDT
DTSTART:20240310T070000
END:DAYLIGHT
BEGIN:STANDARD
TZOFFSETFROM:-0400
TZOFFSETTO:-0500
TZNAME:EST
DTSTART:20241103T060000
END:STANDARD
BEGIN:DAYLIGHT
TZOFFSETFROM:-0500
TZOFFSETTO:-0400
TZNAME:EDT
DTSTART:20250309T070000
END:DAYLIGHT
BEGIN:STANDARD
TZOFFSETFROM:-0400
TZOFFSETTO:-0500
TZNAME:EST
DTSTART:20251102T060000
END:STANDARD
END:VTIMEZONE
BEGIN:VEVENT
DTSTART;TZID=America/New_York:20240323T193000
DTEND;TZID=America/New_York:20240323T193000
DTSTAMP:20260421T093834
CREATED:20240117T163055Z
LAST-MODIFIED:20240321T192919Z
UID:36398-1711222200-1711222200@andersonuniversity.edu
SUMMARY:Spring Dance Concert - Night 3
DESCRIPTION:Find your voice through movement. \nAU Dance seeks to encourage young dancers to find their voice through movement\, creativity and faith. We strive for excellent dancing across the four styles of ballet\, modern\, jazz and tap exploring a wide range of genres within each style to build versatility. Spring Dance Concert is the perfect opportunity to see the creativity of our faculty\, students and guest artists on display. The performance will encompass the amazing talents of our dancers for an entertaining night of live dance on stage! We hope you will consider joining us. \nIf you’d like to donate directly to our dance special project goals\, please visit our donation site \nSpring Dance Concert – Night 3 \nGet Tickets
URL:https://andersonuniversity.edu/auevent/spring-dance-concert-night-3/
LOCATION:Henderson Auditorium
ATTACH;FMTTYPE=image/jpeg:https://andersonuniversity.edu/wp-content/uploads/2023/10/newsmedia-16719.jpg
END:VEVENT
END:VCALENDAR